BEGIN:VCALENDAR
VERSION:2.0
PRODID:-//ChamberMaster//Event Calendar 2.0//EN
METHOD:PUBLISH
X-PUBLISHED-TTL:P3D
REFRESH-INTERVAL:P3D
CALSCALE:GREGORIAN
BEGIN:VEVENT
DTSTART:20260318T180000Z
DTEND:20260318T193000Z
X-MICROSOFT-CDO-ALLDAYEVENT:FALSE
SUMMARY:Brewster Ladies' Library presents Saving Our Ponds
DESCRIPTION:The final program on March 18 will explore what's needed to protect and improve the health of Brewster's freshwater ponds. With the Town's pond data analysis now complete\, it's time for residents and officials to identify material action steps that will result in positive\, measurable change. Engineer Mark Nelson with the Horsley Witten group will describe trends in the conditions of Brewster's ponds and what the Pond Management Plan proposes. John Keith\, president of the Brewster Ponds Coalition\, will discuss the high priority actions the Town and community should take regarding pond water quality.
X-ALT-DESC;FMTTYPE=text/html:The final program on March 18 will explore what&rsquo\;s needed to protect and improve the health of Brewster&rsquo\;s freshwater ponds. With the Town&rsquo\;s pond data analysis now complete\, it&rsquo\;s time for residents and officials to identify material action steps that will result in positive\, measurable change. Engineer Mark Nelson with the Horsley Witten group will describe trends in the conditions of Brewster&rsquo\;s ponds and what the Pond Management Plan proposes. John Keith\, president of the Brewster Ponds Coalition\, will discuss the high priority actions the Town and community should take regarding pond water quality.
LOCATION:Brewster Ladies' Library 1822 Main Street Brewster\, MA
UID:e.3353.8589
SEQUENCE:3
DTSTAMP:20260421T023719Z
URL:http://brewstercapecodma2.chambermaster.com/events/details/saving-our-ponds-8589
END:VEVENT

END:VCALENDAR
