BEGIN:VCALENDAR
VERSION:2.0
PRODID:-//ChamberMaster//Event Calendar 2.0//EN
METHOD:PUBLISH
X-PUBLISHED-TTL:P3D
REFRESH-INTERVAL:P3D
CALSCALE:GREGORIAN
BEGIN:VEVENT
DTSTART:20250705T230000Z
DTEND:20250706T010000Z
X-MICROSOFT-CDO-ALLDAYEVENT:FALSE
SUMMARY:Cape Symphony presents Secret Planet Cape Cod: Duo Andalus
DESCRIPTION:Experience the spellbinding sounds of Duo Andalus in the intimate\, acoustically rich Wellfleet Preservation Hall. Moroccan-Jewish vocalist LALA Tamar and flamenco/oud virtuoso Ofer Ronen bring a soulful journey of voice\, strings\, and story. From Sephardic to Flamenco\, Arabic to Ladino\, their music bridges cultures across the Mediterranean Sea and North Africa in a performance that is as tender as it is powerful. With millions of views from the streets of Marrakech to global stages\, this is a rare opportunity to see Duo Andalus up close in one of Cape Cod's most beautiful listening rooms. This concert is presented by Secret Planet Cape Cod - a co-production of Cape Symphony Presents and Narrowland Music. The Secret Planet series is an initiative rooted in a beloved NYC mini-fest and dedicated to promoting acoustic and traditional music\, and the communities that sustain it. Together\, we're bringing a diverse array of phenomenal global artists to Cape Cod\, nurturing cultural awareness\, artistic excellence\, and community connection. Don't miss this unforgettable celebration of sound\, spirit\, and heritage. Tickets are $35 general admission Questions? Email: rchwastiak@capesymphony.org Follow us: @capesymphony_presents
X-ALT-DESC;FMTTYPE=text/html:Experience the spellbinding sounds of Duo Andalus in the intimate\, acoustically rich Wellfleet Preservation Hall. Moroccan-Jewish vocalist LALA Tamar and flamenco/oud virtuoso Ofer Ronen bring a soulful journey of voice\, strings\, and story. From Sephardic to Flamenco\, Arabic to Ladino\, their music bridges cultures across the Mediterranean Sea and North Africa in a performance that is as tender as it is powerful. With millions of views from the streets of Marrakech to global stages\, this is a rare opportunity to see Duo Andalus up close in one of Cape Cod&rsquo\;s most beautiful listening rooms. This concert is presented by Secret Planet Cape Cod - a co-production of Cape Symphony Presents and Narrowland Music. The Secret Planet series is an initiative rooted in a beloved NYC mini-fest and dedicated to promoting acoustic and traditional music\, and the communities that sustain it. Together\, we&rsquo\;re bringing a diverse array of phenomenal global artists to Cape Cod\, nurturing cultural awareness\, artistic excellence\, and community connection. Don&rsquo\;t miss this unforgettable celebration of sound\, spirit\, and heritage. Tickets are $35 general admission Questions? Email: rchwastiak@capesymphony.org Follow us: @capesymphony_presents
LOCATION:Wellfleet Preservation Hall 335 Main St\, Wellfleet\, MA 02667
UID:e.3353.8174
SEQUENCE:3
DTSTAMP:20260423T142315Z
URL:http://brewstercapecodma2.chambermaster.com/events/details/cape-symphony-presents-secret-planet-cape-cod-duo-andalus-8174
END:VEVENT

END:VCALENDAR
