BEGIN:VCALENDAR
VERSION:2.0
PRODID:-//ChamberMaster//Event Calendar 2.0//EN
METHOD:PUBLISH
X-PUBLISHED-TTL:P3D
REFRESH-INTERVAL:P3D
CALSCALE:GREGORIAN
BEGIN:VEVENT
DTSTART:20250217T153000Z
DTEND:20250217T190000Z
X-MICROSOFT-CDO-ALLDAYEVENT:FALSE
SUMMARY:Cape Cod Museum of Natural History Art & Engineering Workshop
DESCRIPTION:Come imagine\, design\, build & create! Stations include camouflage\, loose parts\, gliders\, mosaics\, & more! This is a drop-in event. Appropriate for ages 4+. "The walls between Art & Engineering exist only in our minds."
X-ALT-DESC;FMTTYPE=text/html:Come imagine\, design\, build &amp\; create! Stations include camouflage\, loose parts\, gliders\, mosaics\, &amp\; more! This is a drop-in event. Appropriate for ages 4+. &ldquo\;The walls between Art &amp\; Engineering exist only in our minds.&rdquo\;
LOCATION:Cape Cod Museum of Natural History 869 Main Street (Route 6A) Brewster\, MA 02631
UID:e.3353.7709
SEQUENCE:3
DTSTAMP:20260425T183818Z
URL:http://brewstercapecodma2.chambermaster.com/events/details/cape-cod-museum-of-natural-history-art-engineering-workshop-7709
END:VEVENT

END:VCALENDAR
