BEGIN:VCALENDAR
VERSION:2.0
PRODID:-//ChamberMaster//Event Calendar 2.0//EN
METHOD:PUBLISH
X-PUBLISHED-TTL:P3D
REFRESH-INTERVAL:P3D
CALSCALE:GREGORIAN
BEGIN:VEVENT
DTSTART:20260503T193000Z
DTEND:20260503T203000Z
X-MICROSOFT-CDO-ALLDAYEVENT:FALSE
SUMMARY:Arts Empowering Life Spring Hymn Sing!
DESCRIPTION:Let's celebrate Springtime together with a good old-fashioned hymn sing\, including favorites like All Things Bright & Beautiful\, This is My Father's World\, and Fairest Lord Jesus. Free for all and refreshments provided. Free admission for all! Info: 508-240-2400 | artsempoweringlife.org
X-ALT-DESC;FMTTYPE=text/html:Let&#39\;s celebrate Springtime together with a good old-fashioned hymn sing\, including favorites like All Things Bright &amp\; Beautiful\, This is My Father&#39\;s World\, and Fairest Lord Jesus. Free for all and refreshments provided. Free admission for all! Info: 508-240-2400 | artsempoweringlife.org
LOCATION:Performing Arts Center\, Brewster
UID:e.3353.8664
SEQUENCE:3
DTSTAMP:20260421T142151Z
URL:http://brewstercapecodma2.chambermaster.com/events/details/arts-empowering-life-spring-hymn-sing-8664
END:VEVENT

END:VCALENDAR
