BEGIN:VCALENDAR
VERSION:2.0
PRODID:-//ChamberMaster//Event Calendar 2.0//EN
METHOD:PUBLISH
X-PUBLISHED-TTL:P3D
REFRESH-INTERVAL:P3D
CALSCALE:GREGORIAN
BEGIN:VEVENT
DTSTART:20250215T203000Z
DTEND:20250215T220000Z
X-MICROSOFT-CDO-ALLDAYEVENT:FALSE
SUMMARY:Arts Empowering LIfe presents Inside the Composing Process with Eriks Ešenvalds
DESCRIPTION:LIVESTREAM ONLY Presented by Eriks E envalds\, one of the most sought-after composers living today Join Arts Empowering Life and renowned Latvian composer Eriks E envalds for an intimate exploration of his creative journey. Known for his evocative choral works and lush harmonies\, E envalds will reveal the inspirations\, techniques\, and stories behind his music. Livestream Link: https://performingartscentercapecod.org/inside-the-composing-process-with-eriks-esenvalds/
X-ALT-DESC;FMTTYPE=text/html:LIVESTREAM ONLY Presented by Eriks E&scaron\;envalds\, one of the most sought-after composers living today Join Arts Empowering Life and renowned Latvian composer Eriks E&scaron\;envalds for an intimate exploration of his creative journey. Known for his evocative choral works and lush harmonies\, E&scaron\;envalds will reveal the inspirations\, techniques\, and stories behind his music. Livestream Link: https://performingartscentercapecod.org/inside-the-composing-process-with-eriks-esenvalds/
LOCATION:LIVESTREAM
UID:e.3353.7727
SEQUENCE:3
DTSTAMP:20260426T000458Z
URL:http://brewstercapecodma2.chambermaster.com/events/details/arts-empowering-life-presents-inside-the-composing-process-with-eriks-ešenvalds-7727
END:VEVENT

END:VCALENDAR
